BEGIN:VCALENDAR
VERSION:2.0
PRODID:-//Preston School - ECPv6.15.20//NONSGML v1.0//EN
CALSCALE:GREGORIAN
METHOD:PUBLISH
X-WR-CALNAME:Preston School
X-ORIGINAL-URL:https://prestonschool.co.uk
X-WR-CALDESC:Events for Preston School
REFRESH-INTERVAL;VALUE=DURATION:PT1H
X-Robots-Tag:noindex
X-PUBLISHED-TTL:PT1H
BEGIN:VTIMEZONE
TZID:UTC
BEGIN:STANDARD
TZOFFSETFROM:+0000
TZOFFSETTO:+0000
TZNAME:UTC
DTSTART:20240101T000000
END:STANDARD
END:VTIMEZONE
BEGIN:VEVENT
DTSTART;VALUE=DATE:20251024
DTEND;VALUE=DATE:20251025
DTSTAMP:20260420T214127
CREATED:20250908T115811Z
LAST-MODIFIED:20250908T124555Z
UID:1318-1761264000-1761350399@prestonschool.co.uk
SUMMARY:INSET Day
DESCRIPTION:Students are not required to attend school on this day
URL:https://prestonschool.co.uk/event/inset-day/
CATEGORIES:School,Year 10,Year 11,Year 7,Year 8,Year 9
END:VEVENT
BEGIN:VEVENT
DTSTART;VALUE=DATE:20251023
DTEND;VALUE=DATE:20251024
DTSTAMP:20260420T214127
CREATED:20251020T143615Z
LAST-MODIFIED:20251020T143615Z
UID:1561-1761177600-1761263999@prestonschool.co.uk
SUMMARY:Non Uniform Day - 23rd October 2025
DESCRIPTION:We will be holding our first Non-uniform day of the year on Thursday 23rd October\, which is the last day that students are to attend school for this half term.
URL:https://prestonschool.co.uk/event/non-uniform-day-23rd-october-2025/
CATEGORIES:School,Year 10,Year 11,Year 7,Year 8,Year 9
END:VEVENT
BEGIN:VEVENT
DTSTART;VALUE=DATE:20251022
DTEND;VALUE=DATE:20251023
DTSTAMP:20260420T214127
CREATED:20250908T105615Z
LAST-MODIFIED:20250908T124601Z
UID:1313-1761091200-1761177599@prestonschool.co.uk
SUMMARY:Year 11 - Geography trip
DESCRIPTION:Year 11 Geography students will be visiting Dorchester and Swanage as part of their GCSE course
URL:https://prestonschool.co.uk/event/year-11-geography-trip-2/
CATEGORIES:School,Year 11
END:VEVENT
BEGIN:VEVENT
DTSTART;VALUE=DATE:20251020
DTEND;VALUE=DATE:20251021
DTSTAMP:20260420T214127
CREATED:20250924T120147Z
LAST-MODIFIED:20250924T120155Z
UID:1484-1760918400-1761004799@prestonschool.co.uk
SUMMARY:Reading Workshop with Parents
DESCRIPTION:
URL:https://prestonschool.co.uk/event/reading-workshop-with-parents/
CATEGORIES:School
END:VEVENT
BEGIN:VEVENT
DTSTART;VALUE=DATE:20251020
DTEND;VALUE=DATE:20251021
DTSTAMP:20260420T214127
CREATED:20250919T081939Z
LAST-MODIFIED:20250919T081939Z
UID:1474-1760918400-1761004799@prestonschool.co.uk
SUMMARY:Year 11 - Exam Buster Workshop
DESCRIPTION:
URL:https://prestonschool.co.uk/event/year-11-exam-buster-workshop/
CATEGORIES:School,Year 11
END:VEVENT
BEGIN:VEVENT
DTSTART;VALUE=DATE:20251014
DTEND;VALUE=DATE:20251022
DTSTAMP:20260420T214127
CREATED:20250924T120233Z
LAST-MODIFIED:20250924T120233Z
UID:1486-1760400000-1761091199@prestonschool.co.uk
SUMMARY:Scholastic Book Fayre
DESCRIPTION:
URL:https://prestonschool.co.uk/event/scholastic-book-fayre/
CATEGORIES:School
END:VEVENT
BEGIN:VEVENT
DTSTART;VALUE=DATE:20251014
DTEND;VALUE=DATE:20251015
DTSTAMP:20260420T214127
CREATED:20250908T105530Z
LAST-MODIFIED:20250908T124605Z
UID:1311-1760400000-1760486399@prestonschool.co.uk
SUMMARY:Year 11 - Geography trip
DESCRIPTION:Year 11 students will be visiting Dorchester and Swanage as part of their GCSE course
URL:https://prestonschool.co.uk/event/year-11-geography-trip/
CATEGORIES:School,Year 11
END:VEVENT
BEGIN:VEVENT
DTSTART;TZID=UTC:20251009T130000
DTEND;TZID=UTC:20251009T140000
DTSTAMP:20260420T214127
CREATED:20250908T101915Z
LAST-MODIFIED:20250910T091602Z
UID:1305-1760014800-1760018400@prestonschool.co.uk
SUMMARY:Year 11 - Careers Fair
DESCRIPTION:Year 11 students will visit Westlands Entertainment Venue to attend the Careers Fair\, this gives them the opportunity to see what paths are available to them for their future.
URL:https://prestonschool.co.uk/event/year-11-careers-fair/
CATEGORIES:School,Year 11
END:VEVENT
BEGIN:VEVENT
DTSTART;TZID=UTC:20251009T110000
DTEND;TZID=UTC:20251009T120000
DTSTAMP:20260420T214127
CREATED:20250908T101822Z
LAST-MODIFIED:20250910T091711Z
UID:1303-1760007600-1760011200@prestonschool.co.uk
SUMMARY:Year 9 - Careers Fair
DESCRIPTION:Year 9 students to visit Westlands Entertainment Venue to attend the Careers Fair
URL:https://prestonschool.co.uk/event/year-9-careers-fair/
CATEGORIES:School,Year 9
END:VEVENT
BEGIN:VEVENT
DTSTART;TZID=UTC:20250925T080000
DTEND;TZID=UTC:20250925T190000
DTSTAMP:20260420T214127
CREATED:20250526T145324Z
LAST-MODIFIED:20250908T124625Z
UID:357-1758787200-1758826800@prestonschool.co.uk
SUMMARY:Open Day - September 2025
DESCRIPTION:Our Open Day for students seeking a place at Preston for 1st September 2026\, takes place on 25th September 2025. We encourage all families to visit the school during both the day and the evening event\, to see the school in action.
URL:https://prestonschool.co.uk/event/open-day-september-2025/
CATEGORIES:School
END:VEVENT
BEGIN:VEVENT
DTSTART;TZID=UTC:20250918T170000
DTEND;TZID=UTC:20250918T190000
DTSTAMP:20260420T214127
CREATED:20250908T100756Z
LAST-MODIFIED:20250908T124631Z
UID:1301-1758214800-1758222000@prestonschool.co.uk
SUMMARY:Welcome to Year 11 Evening
DESCRIPTION:
URL:https://prestonschool.co.uk/event/welcome-to-year-11-evening/
CATEGORIES:School,Year 11
END:VEVENT
BEGIN:VEVENT
DTSTART;TZID=UTC:20250911T090000
DTEND;TZID=UTC:20250911T150000
DTSTAMP:20260420T214127
CREATED:20250907T100629Z
LAST-MODIFIED:20250908T124640Z
UID:1225-1757581200-1757602800@prestonschool.co.uk
SUMMARY:School Photo Day
DESCRIPTION:School photo day for students in Years 7\, 9 and 11.
URL:https://prestonschool.co.uk/event/school-photo-day/
CATEGORIES:School,Year 11,Year 7,Year 9
END:VEVENT
END:VCALENDAR