BEGIN:VCALENDAR
VERSION:2.0
PRODID:-//Preston School - ECPv6.15.20//NONSGML v1.0//EN
CALSCALE:GREGORIAN
METHOD:PUBLISH
X-ORIGINAL-URL:https://prestonschool.co.uk
X-WR-CALDESC:Events for Preston School
REFRESH-INTERVAL;VALUE=DURATION:PT1H
X-Robots-Tag:noindex
X-PUBLISHED-TTL:PT1H
BEGIN:VTIMEZONE
TZID:UTC
BEGIN:STANDARD
TZOFFSETFROM:+0000
TZOFFSETTO:+0000
TZNAME:UTC
DTSTART:20250101T000000
END:STANDARD
END:VTIMEZONE
BEGIN:VEVENT
DTSTART;TZID=UTC:20260108T170000
DTEND;TZID=UTC:20260108T190000
DTSTAMP:20260420T181244
CREATED:20250908T121728Z
LAST-MODIFIED:20250908T124452Z
UID:1334-1767891600-1767898800@prestonschool.co.uk
SUMMARY:Year 11 - Revision Evening
DESCRIPTION:
URL:https://prestonschool.co.uk/event/year-11-revision-evening/
CATEGORIES:School,Year 11
END:VEVENT
BEGIN:VEVENT
DTSTART;VALUE=DATE:20260128
DTEND;VALUE=DATE:20260129
DTSTAMP:20260420T181244
CREATED:20250908T122032Z
LAST-MODIFIED:20250908T122032Z
UID:1336-1769558400-1769644799@prestonschool.co.uk
SUMMARY:Science Live Trip
DESCRIPTION:
URL:https://prestonschool.co.uk/event/science-live-trip/
CATEGORIES:School
END:VEVENT
BEGIN:VEVENT
DTSTART;TZID=UTC:20260205T160000
DTEND;TZID=UTC:20260205T190000
DTSTAMP:20260420T181244
CREATED:20250908T122320Z
LAST-MODIFIED:20250908T124446Z
UID:1338-1770307200-1770318000@prestonschool.co.uk
SUMMARY:Year 10 - Parents Evening
DESCRIPTION:Appointments can be booked through the parent portal from Thursday 8th January.
URL:https://prestonschool.co.uk/event/year-10-parents-evening/
CATEGORIES:School,Year 10
END:VEVENT
BEGIN:VEVENT
DTSTART;TZID=UTC:20260305T160000
DTEND;TZID=UTC:20260305T190000
DTSTAMP:20260420T181244
CREATED:20250908T122600Z
LAST-MODIFIED:20250908T124440Z
UID:1342-1772726400-1772737200@prestonschool.co.uk
SUMMARY:Year 8 - Parents Evening
DESCRIPTION:Appointments can be booked via the parent portal from Thursday 5th February
URL:https://prestonschool.co.uk/event/year-8-parents-evening-2/
CATEGORIES:School,Year 8
END:VEVENT
BEGIN:VEVENT
DTSTART;VALUE=DATE:20260320
DTEND;VALUE=DATE:20260321
DTSTAMP:20260420T181244
CREATED:20250908T122713Z
LAST-MODIFIED:20250908T124434Z
UID:1344-1773964800-1774051199@prestonschool.co.uk
SUMMARY:Non Uniform Day - Comic Relief
DESCRIPTION:Please join us in raising money for Comic Relief
URL:https://prestonschool.co.uk/event/non-uniform-day-comic-relief/
CATEGORIES:School,Year 10,Year 11,Year 7,Year 8,Year 9
END:VEVENT
BEGIN:VEVENT
DTSTART;TZID=UTC:20260326T160000
DTEND;TZID=UTC:20260326T190000
DTSTAMP:20260420T181244
CREATED:20250908T122836Z
LAST-MODIFIED:20250908T124427Z
UID:1346-1774540800-1774551600@prestonschool.co.uk
SUMMARY:Year 11 - Parents Evening
DESCRIPTION:Appointments can be booked via the parent portal from Thursday 26th February
URL:https://prestonschool.co.uk/event/year-11-parents-evening-2/
CATEGORIES:School,Year 11
END:VEVENT
BEGIN:VEVENT
DTSTART;TZID=UTC:20260423T170000
DTEND;TZID=UTC:20260423T190000
DTSTAMP:20260420T181244
CREATED:20250908T122947Z
LAST-MODIFIED:20250908T124421Z
UID:1348-1776963600-1776970800@prestonschool.co.uk
SUMMARY:Year 10 - Revision Evening
DESCRIPTION:
URL:https://prestonschool.co.uk/event/year-10-revision-evening/
CATEGORIES:School,Year 10
END:VEVENT
BEGIN:VEVENT
DTSTART;TZID=UTC:20260507T050000
DTEND;TZID=UTC:20260507T190000
DTSTAMP:20260420T181244
CREATED:20250908T123123Z
LAST-MODIFIED:20250908T124414Z
UID:1350-1778130000-1778180400@prestonschool.co.uk
SUMMARY:Year 9 - Options Evening
DESCRIPTION:An evening for students to attend with their parents/carers to help them decide which options to take for their GCSE’s
URL:https://prestonschool.co.uk/event/year-9-options-evening/
CATEGORIES:School,Year 9
END:VEVENT
BEGIN:VEVENT
DTSTART;VALUE=DATE:20260611
DTEND;VALUE=DATE:20260612
DTSTAMP:20260420T181244
CREATED:20250915T084655Z
LAST-MODIFIED:20250915T084655Z
UID:1468-1781136000-1781222399@prestonschool.co.uk
SUMMARY:Year 8 - Take your child to work day
DESCRIPTION:Year 8’s get the opportunity to spend the day with a parent or carer in their work place
URL:https://prestonschool.co.uk/event/year-8-take-your-child-to-work-day/
CATEGORIES:School,Year 8
END:VEVENT
BEGIN:VEVENT
DTSTART;TZID=UTC:20260611T160000
DTEND;TZID=UTC:20260611T190000
DTSTAMP:20260420T181244
CREATED:20250908T123318Z
LAST-MODIFIED:20250908T124408Z
UID:1352-1781193600-1781204400@prestonschool.co.uk
SUMMARY:Year 7 - Parents Evening
DESCRIPTION:Appointments can be booked via the parent portal from Thursday 14th May
URL:https://prestonschool.co.uk/event/year-7-parents-evening/
CATEGORIES:School,Year 7
END:VEVENT
BEGIN:VEVENT
DTSTART;TZID=UTC:20260619T100000
DTEND;TZID=UTC:20260619T110000
DTSTAMP:20260420T181244
CREATED:20250908T123427Z
LAST-MODIFIED:20250908T124402Z
UID:1354-1781863200-1781866800@prestonschool.co.uk
SUMMARY:Year 11 - Leavers Assembly
DESCRIPTION:A celebration of our outgoing Year 11 students
URL:https://prestonschool.co.uk/event/year-11-leavers-assembly/
CATEGORIES:School,Year 11
END:VEVENT
BEGIN:VEVENT
DTSTART;TZID=UTC:20260624T063000
DTEND;TZID=UTC:20260624T220000
DTSTAMP:20260420T181244
CREATED:20250908T123555Z
LAST-MODIFIED:20250908T124356Z
UID:1356-1782282600-1782338400@prestonschool.co.uk
SUMMARY:Year 11 - Prom
DESCRIPTION:Time for our Year 11’s to get their best dresses and finest suits on\, ready to dance the night away\,
URL:https://prestonschool.co.uk/event/year-11-prom/
CATEGORIES:School,Year 11
END:VEVENT
BEGIN:VEVENT
DTSTART;VALUE=DATE:20260630
DTEND;VALUE=DATE:20260701
DTSTAMP:20260420T181244
CREATED:20250908T123706Z
LAST-MODIFIED:20250908T124349Z
UID:1358-1782777600-1782863999@prestonschool.co.uk
SUMMARY:Year 10 - College Experience Day
DESCRIPTION:The Year 10 students will visit the college for a taster day
URL:https://prestonschool.co.uk/event/year-10-college-experience-day/
CATEGORIES:School,Year 10
END:VEVENT
BEGIN:VEVENT
DTSTART;VALUE=DATE:20260702
DTEND;VALUE=DATE:20260703
DTSTAMP:20260420T181244
CREATED:20250908T123738Z
LAST-MODIFIED:20250908T124343Z
UID:1360-1782950400-1783036799@prestonschool.co.uk
SUMMARY:Year 8 - My Futures Day
DESCRIPTION:
URL:https://prestonschool.co.uk/event/year-8-my-futures-day/
CATEGORIES:School,Year 8
END:VEVENT
BEGIN:VEVENT
DTSTART;TZID=UTC:20260708T050000
DTEND;TZID=UTC:20260708T190000
DTSTAMP:20260420T181244
CREATED:20250908T123823Z
LAST-MODIFIED:20250908T123823Z
UID:1362-1783486800-1783537200@prestonschool.co.uk
SUMMARY:Presentation Evening
DESCRIPTION:
URL:https://prestonschool.co.uk/event/presentation-evening/
CATEGORIES:School
END:VEVENT
BEGIN:VEVENT
DTSTART;TZID=UTC:20260709T173000
DTEND;TZID=UTC:20260709T190000
DTSTAMP:20260420T181244
CREATED:20250908T123916Z
LAST-MODIFIED:20250908T123916Z
UID:1364-1783618200-1783623600@prestonschool.co.uk
SUMMARY:Presentation Evening
DESCRIPTION:
URL:https://prestonschool.co.uk/event/presentation-evening-2/
CATEGORIES:School
END:VEVENT
BEGIN:VEVENT
DTSTART;VALUE=DATE:20260714
DTEND;VALUE=DATE:20260715
DTSTAMP:20260420T181244
CREATED:20250908T124130Z
LAST-MODIFIED:20250908T124305Z
UID:1368-1783987200-1784073599@prestonschool.co.uk
SUMMARY:Trips Day
DESCRIPTION:Students get the chance to attend a year group specific fun school trip on this day
URL:https://prestonschool.co.uk/event/trips-day/
CATEGORIES:School,Year 10,Year 11,Year 7,Year 8,Year 9
END:VEVENT
BEGIN:VEVENT
DTSTART;VALUE=DATE:20260717
DTEND;VALUE=DATE:20260718
DTSTAMP:20260420T181244
CREATED:20250908T124025Z
LAST-MODIFIED:20250908T124324Z
UID:1366-1784246400-1784332799@prestonschool.co.uk
SUMMARY:Last Day of Term
DESCRIPTION:
URL:https://prestonschool.co.uk/event/last-day-of-term/
CATEGORIES:School,Year 10,Year 11,Year 7,Year 8,Year 9
END:VEVENT
END:VCALENDAR