BEGIN:VCALENDAR
VERSION:2.0
PRODID:-//Preston School - ECPv6.15.20//NONSGML v1.0//EN
CALSCALE:GREGORIAN
METHOD:PUBLISH
X-WR-CALNAME:Preston School
X-ORIGINAL-URL:https://prestonschool.co.uk
X-WR-CALDESC:Events for Preston School
REFRESH-INTERVAL;VALUE=DURATION:PT1H
X-Robots-Tag:noindex
X-PUBLISHED-TTL:PT1H
BEGIN:VTIMEZONE
TZID:UTC
BEGIN:STANDARD
TZOFFSETFROM:+0000
TZOFFSETTO:+0000
TZNAME:UTC
DTSTART:20250101T000000
END:STANDARD
END:VTIMEZONE
BEGIN:VEVENT
DTSTART;VALUE=DATE:20260320
DTEND;VALUE=DATE:20260321
DTSTAMP:20260420T131434
CREATED:20250908T122713Z
LAST-MODIFIED:20250908T124434Z
UID:1344-1773964800-1774051199@prestonschool.co.uk
SUMMARY:Non Uniform Day - Comic Relief
DESCRIPTION:Please join us in raising money for Comic Relief
URL:https://prestonschool.co.uk/event/non-uniform-day-comic-relief/
CATEGORIES:School,Year 10,Year 11,Year 7,Year 8,Year 9
END:VEVENT
END:VCALENDAR