BEGIN:VCALENDAR
VERSION:2.0
PRODID:-//Preston School - ECPv6.15.20//NONSGML v1.0//EN
CALSCALE:GREGORIAN
METHOD:PUBLISH
X-ORIGINAL-URL:https://prestonschool.co.uk
X-WR-CALDESC:Events for Preston School
REFRESH-INTERVAL;VALUE=DURATION:PT1H
X-Robots-Tag:noindex
X-PUBLISHED-TTL:PT1H
BEGIN:VTIMEZONE
TZID:UTC
BEGIN:STANDARD
TZOFFSETFROM:+0000
TZOFFSETTO:+0000
TZNAME:UTC
DTSTART:20250101T000000
END:STANDARD
END:VTIMEZONE
BEGIN:VEVENT
DTSTART;VALUE=DATE:20260717
DTEND;VALUE=DATE:20260718
DTSTAMP:20260421T064904
CREATED:20250908T124025Z
LAST-MODIFIED:20250908T124324Z
UID:1366-1784246400-1784332799@prestonschool.co.uk
SUMMARY:Last Day of Term
DESCRIPTION:
URL:https://prestonschool.co.uk/event/last-day-of-term/
CATEGORIES:School,Year 10,Year 11,Year 7,Year 8,Year 9
END:VEVENT
END:VCALENDAR