BEGIN:VCALENDAR
VERSION:2.0
PRODID:-//Preston School - ECPv6.15.20//NONSGML v1.0//EN
CALSCALE:GREGORIAN
METHOD:PUBLISH
X-ORIGINAL-URL:https://prestonschool.co.uk
X-WR-CALDESC:Events for Preston School
REFRESH-INTERVAL;VALUE=DURATION:PT1H
X-Robots-Tag:noindex
X-PUBLISHED-TTL:PT1H
BEGIN:VTIMEZONE
TZID:UTC
BEGIN:STANDARD
TZOFFSETFROM:+0000
TZOFFSETTO:+0000
TZNAME:UTC
DTSTART:20250101T000000
END:STANDARD
END:VTIMEZONE
BEGIN:VEVENT
DTSTART;VALUE=DATE:20260714
DTEND;VALUE=DATE:20260715
DTSTAMP:20260421T065634
CREATED:20250908T124130Z
LAST-MODIFIED:20250908T124305Z
UID:1368-1783987200-1784073599@prestonschool.co.uk
SUMMARY:Trips Day
DESCRIPTION:Students get the chance to attend a year group specific fun school trip on this day
URL:https://prestonschool.co.uk/event/trips-day/
CATEGORIES:School,Year 10,Year 11,Year 7,Year 8,Year 9
END:VEVENT
END:VCALENDAR