BEGIN:VCALENDAR
VERSION:2.0
PRODID:-//Preston School - ECPv6.15.20//NONSGML v1.0//EN
CALSCALE:GREGORIAN
METHOD:PUBLISH
X-ORIGINAL-URL:https://prestonschool.co.uk
X-WR-CALDESC:Events for Preston School
REFRESH-INTERVAL;VALUE=DURATION:PT1H
X-Robots-Tag:noindex
X-PUBLISHED-TTL:PT1H
BEGIN:VTIMEZONE
TZID:UTC
BEGIN:STANDARD
TZOFFSETFROM:+0000
TZOFFSETTO:+0000
TZNAME:UTC
DTSTART:20250101T000000
END:STANDARD
END:VTIMEZONE
BEGIN:VEVENT
DTSTART;VALUE=DATE:20260105
DTEND;VALUE=DATE:20260106
DTSTAMP:20260420T161230
CREATED:20250908T122407Z
LAST-MODIFIED:20250908T124459Z
UID:1340-1767571200-1767657599@prestonschool.co.uk
SUMMARY:INSET Day
DESCRIPTION:Students are not required to attend school on this day
URL:https://prestonschool.co.uk/event/inset-day-2/
CATEGORIES:School,Year 10,Year 11,Year 7,Year 8,Year 9
END:VEVENT
END:VCALENDAR