BEGIN:VCALENDAR
VERSION:2.0
PRODID:-//Preston School - ECPv6.15.20//NONSGML v1.0//EN
CALSCALE:GREGORIAN
METHOD:PUBLISH
X-ORIGINAL-URL:https://prestonschool.co.uk
X-WR-CALDESC:Events for Preston School
REFRESH-INTERVAL;VALUE=DURATION:PT1H
X-Robots-Tag:noindex
X-PUBLISHED-TTL:PT1H
BEGIN:VTIMEZONE
TZID:UTC
BEGIN:STANDARD
TZOFFSETFROM:+0000
TZOFFSETTO:+0000
TZNAME:UTC
DTSTART:20250101T000000
END:STANDARD
END:VTIMEZONE
BEGIN:VEVENT
DTSTART;TZID=UTC:20260205T160000
DTEND;TZID=UTC:20260205T190000
DTSTAMP:20260420T131441
CREATED:20250908T122320Z
LAST-MODIFIED:20250908T124446Z
UID:1338-1770307200-1770318000@prestonschool.co.uk
SUMMARY:Year 10 - Parents Evening
DESCRIPTION:Appointments can be booked through the parent portal from Thursday 8th January.
URL:https://prestonschool.co.uk/event/year-10-parents-evening/
CATEGORIES:School,Year 10
END:VEVENT
END:VCALENDAR